BEGIN:VCALENDAR
VERSION:2.0
PRODID:-//Squarespace Inc/Squarespace 6//v6//EN
BEGIN:VEVENT
UID:5806f5f1d1758ec8152e31df@squarespace.com
DTSTAMP:20161024T053746Z
DTSTART:20161202T150000Z
DTEND:20170129T210000Z
SUMMARY:A COVENANT OF THE ANIMALS
END:VEVENT
END:VCALENDAR
