BEGIN:VCALENDAR
VERSION:2.0
PRODID:-//Squarespace Inc/Squarespace 6//v6//EN
BEGIN:VEVENT
UID:5fb76354fcd3af420df40f2a@squarespace.com
DTSTAMP:20210121T065429Z
DTSTART:20210205T233000Z
DTEND:20210314T053000Z
SUMMARY:Safe Space contemporary sculpture
GEO:-35.117387;139.275653
LOCATION:Murray Bridge Regional Gallery\, 27 Sixth Street\, Murray Bridge\, 
 SA\, 5253\, Australia
END:VEVENT
END:VCALENDAR
