BEGIN:VCALENDAR
VERSION:2.0
PRODID:-//Squarespace Inc/Squarespace 6//v6//EN
BEGIN:VEVENT
UID:6004e3e42379c17f2a2141bf@squarespace.com
DTSTAMP:20210118T015706Z
DTSTART:20210117T233000Z
DTEND:20210205T053000Z
SUMMARY:EXHIBITION CHANGEOVER
GEO:-35.117387;139.275653
LOCATION:Murray Bridge Regional Gallery\, 27 Sixth Street\, Murray Bridge\, 
 SA\, 5253\, Australia
END:VEVENT
END:VCALENDAR
