BEGIN:VCALENDAR
VERSION:2.0
PRODID:-//Squarespace Inc/Squarespace 6//v6//EN
BEGIN:VEVENT
UID:60337b7bfb188f7d1703def2@squarespace.com
DTSTAMP:20210222T115111Z
DTSTART:20210319T233000Z
DTEND:20210502T063000Z
SUMMARY:That Old Stuff
GEO:-35.117387;139.275653
LOCATION:Murray Bridge Regional Gallery\, 27 Sixth Street\, Murray Bridge\, 
 SA\, 5253\, Australia
END:VEVENT
END:VCALENDAR
